{
 "currentVersion": 10.5,
 "serviceDescription": "Indianapolis/Marion County 2019 Aerial Photography State Plane Projection w/ Labels.",
 "mapName": "Layers",
 "description": "",
 "copyrightText": "",
 "supportsDynamicLayers": true,
 "layers": [
  {
   "id": 0,
   "name": "Interstates",
   "parentLayerId": -1,
   "defaultVisibility": true,
   "subLayerIds": null,
   "minScale": 32000,
   "maxScale": 0
  },
  {
   "id": 1,
   "name": "Thoroughfare",
   "parentLayerId": -1,
   "defaultVisibility": true,
   "subLayerIds": null,
   "minScale": 32000,
   "maxScale": 0
  },
  {
   "id": 2,
   "name": "Streets",
   "parentLayerId": -1,
   "defaultVisibility": true,
   "subLayerIds": null,
   "minScale": 8000,
   "maxScale": 0
  },
  {
   "id": 3,
   "name": "Parcels",
   "parentLayerId": -1,
   "defaultVisibility": true,
   "subLayerIds": null,
   "minScale": 2000,
   "maxScale": 0
  },
  {
   "id": 4,
   "name": "2019 Aerial Photography",
   "parentLayerId": -1,
   "defaultVisibility": true,
   "subLayerIds": null,
   "minScale": 0,
   "maxScale": 0
  }
 ],
 "tables": [],
 "spatialReference": {
  "wkid": 2244,
  "latestWkid": 2965
 },
 "singleFusedMapCache": true,
 "tileInfo": {
  "rows": 256,
  "cols": 256,
  "dpi": 96,
  "format": "MIXED",
  "compressionQuality": 75,
  "origin": {
   "x": -18119800,
   "y": 20012700
  },
  "spatialReference": {
   "wkid": 2244,
   "latestWkid": 2965
  },
  "lods": [
   {
    "level": 0,
    "resolution": 868.0555555555555,
    "scale": 1000000
   },
   {
    "level": 1,
    "resolution": 651.0416666666666,
    "scale": 750000
   },
   {
    "level": 2,
    "resolution": 434.02777777777777,
    "scale": 500000
   },
   {
    "level": 3,
    "resolution": 260.41666666666663,
    "scale": 300000
   },
   {
    "level": 4,
    "resolution": 217.01388888888889,
    "scale": 250000
   },
   {
    "level": 5,
    "resolution": 108.50694444444444,
    "scale": 125000
   },
   {
    "level": 6,
    "resolution": 55.55555555555555,
    "scale": 64000
   },
   {
    "level": 7,
    "resolution": 27.777777777777775,
    "scale": 32000
   },
   {
    "level": 8,
    "resolution": 13.888888888888888,
    "scale": 16000
   },
   {
    "level": 9,
    "resolution": 6.944444444444444,
    "scale": 8000
   },
   {
    "level": 10,
    "resolution": 3.472222222222222,
    "scale": 4000
   },
   {
    "level": 11,
    "resolution": 1.736111111111111,
    "scale": 2000
   },
   {
    "level": 12,
    "resolution": 0.8680555555555555,
    "scale": 1000
   },
   {
    "level": 13,
    "resolution": 0.43402777777777773,
    "scale": 500
   }
  ]
 },
 "initialExtent": {
  "xmin": 100116.32650263794,
  "ymin": 1655550.0898066142,
  "xmax": 293475.70150263794,
  "ymax": 1715445.9231399477,
  "spatialReference": {
   "wkid": 2244,
   "latestWkid": 2965
  }
 },
 "fullExtent": {
  "xmin": 135032.01060417702,
  "ymin": 1592000.0780104,
  "xmax": 258560.017401099,
  "ymax": 1713023.71271394,
  "spatialReference": {
   "wkid": 2244,
   "latestWkid": 2965
  }
 },
 "minScale": 1000000,
 "maxScale": 500,
 "units": "esriFeet",
 "supportedImageFormatTypes": "PNG32,PNG24,PNG,JPG,DIB,TIFF,EMF,PS,PDF,GIF,SVG,SVGZ,BMP",
 "documentInfo": {
  "Title": "2019Photography_Labels",
  "Author": "NCAMIRE",
  "Comments": "Indianapolis/Marion County 2019 Aerial Photography w/ Street & Parcel Labels in State Plane Projection",
  "Subject": "2019 Aerials w/ Labels.",
  "Category": "",
  "AntialiasingMode": "None",
  "TextAntialiasingMode": "Force",
  "Keywords": "Marion County,Indianapolis,IN,2019,Aerial Photography,State Plane,Labels"
 },
 "capabilities": "Map,Query,Data",
 "supportedQueryFormats": "JSON, AMF, geoJSON",
 "exportTilesAllowed": false,
 "datumTransformations": [
  {
   "geoTransforms": [
    {
     "wkid": 108001,
     "latestWkid": 1241,
     "transformForward": true,
     "name": "NAD_1927_To_NAD_1983_NADCON"
    }
   ]
  },
  {
   "geoTransforms": [
    {
     "wkid": 108001,
     "latestWkid": 1241,
     "transformForward": false,
     "name": "NAD_1927_To_NAD_1983_NADCON"
    }
   ]
  }
 ],
 "supportsDatumTransformation": true,
 "maxRecordCount": 1000,
 "maxImageHeight": 4096,
 "maxImageWidth": 4096,
 "supportedExtensions": "KmlServer"
}
