{
 "currentVersion": 10.5,
 "serviceDescription": "Indianapolis/Marion County 2022 Fall Aerial Photography State Plane",
 "mapName": "Layers",
 "description": "",
 "copyrightText": "",
 "supportsDynamicLayers": true,
 "layers": [
  {
   "id": 0,
   "name": "2022 Fall Aerial Photography",
   "parentLayerId": -1,
   "defaultVisibility": true,
   "subLayerIds": [
    1,
    2,
    3
   ],
   "minScale": 0,
   "maxScale": 0
  },
  {
   "id": 3,
   "name": "Image",
   "parentLayerId": 0,
   "defaultVisibility": true,
   "subLayerIds": null,
   "minScale": 0,
   "maxScale": 0
  }
 ],
 "tables": [],
 "spatialReference": {
  "wkid": 2244,
  "latestWkid": 2965
 },
 "singleFusedMapCache": true,
 "tileInfo": {
  "rows": 256,
  "cols": 256,
  "dpi": 96,
  "format": "MIXED",
  "compressionQuality": 75,
  "origin": {
   "x": -18119800,
   "y": 20012700
  },
  "spatialReference": {
   "wkid": 2244,
   "latestWkid": 2965
  },
  "lods": [
   {
    "level": 0,
    "resolution": 868.0555555555555,
    "scale": 1000000
   },
   {
    "level": 1,
    "resolution": 651.0416666666666,
    "scale": 750000
   },
   {
    "level": 2,
    "resolution": 434.02777777777777,
    "scale": 500000
   },
   {
    "level": 3,
    "resolution": 260.41666666666663,
    "scale": 300000
   },
   {
    "level": 4,
    "resolution": 217.01388888888889,
    "scale": 250000
   },
   {
    "level": 5,
    "resolution": 108.50694444444444,
    "scale": 125000
   },
   {
    "level": 6,
    "resolution": 55.55555555555555,
    "scale": 64000
   },
   {
    "level": 7,
    "resolution": 27.777777777777775,
    "scale": 32000
   },
   {
    "level": 8,
    "resolution": 13.888888888888888,
    "scale": 16000
   },
   {
    "level": 9,
    "resolution": 6.944444444444444,
    "scale": 8000
   },
   {
    "level": 10,
    "resolution": 3.472222222222222,
    "scale": 4000
   },
   {
    "level": 11,
    "resolution": 1.736111111111111,
    "scale": 2000
   },
   {
    "level": 12,
    "resolution": 0.8680555555555555,
    "scale": 1000
   },
   {
    "level": 13,
    "resolution": 0.43402777777777773,
    "scale": 500
   }
  ]
 },
 "initialExtent": {
  "xmin": 45821.770833333314,
  "ymin": 1620258.5069444443,
  "xmax": 349858.2291666667,
  "ymax": 1748513.7152777778,
  "spatialReference": {
   "wkid": 2244,
   "latestWkid": 2965
  }
 },
 "fullExtent": {
  "xmin": 45821.770833333314,
  "ymin": 1554286.2847222222,
  "xmax": 349858.2291666667,
  "ymax": 1748513.7152777778,
  "spatialReference": {
   "wkid": 2244,
   "latestWkid": 2965
  }
 },
 "minScale": 1000000,
 "maxScale": 500,
 "units": "esriFeet",
 "supportedImageFormatTypes": "PNG32,PNG24,PNG,JPG,DIB,TIFF,EMF,PS,PDF,GIF,SVG,SVGZ,BMP",
 "documentInfo": {
  "Title": "",
  "Author": "",
  "Comments": "Indianapolis/Marion County 2022 Aerial Photography State Plane",
  "Subject": "Indianapolis/Marion County 2022 Aerial Photography State Plane",
  "Category": "",
  "AntialiasingMode": "None",
  "TextAntialiasingMode": "Force",
  "Keywords": "Indianapolis,Marion County,2022,Aerial,Photography,State Plane,fall"
 },
 "capabilities": "Map,Query,Data",
 "supportedQueryFormats": "JSON, AMF, geoJSON",
 "exportTilesAllowed": false,
 "supportsDatumTransformation": true,
 "maxRecordCount": 1000,
 "maxImageHeight": 4096,
 "maxImageWidth": 4096,
 "supportedExtensions": "KmlServer"
}
