View In:
ArcGIS JavaScript
ArcGIS Online map viewer
Google Earth
ArcMap
ArcGIS Explorer
View Footprint In:
ArcGIS Online map viewer
Service Description: City of Indianapolis & Marion County, IN Base Map. Compatible w/ ESRI's 'Streets' basemap. Used in the MapIndy (https://maps.indy.gov/MapIndy/) & Indy Zoning Browser (https://maps.indy.gov/Zoning/) web applications.
Map Name: Layers
Legend
All Layers and Tables
Dynamic Legend
Dynamic All Layers
Layers:
Description:
Copyright Text:
Spatial Reference:
102100
(3857)
Single Fused Map Cache: true
Tile Info:
- Height: 256
- Width: 256
- DPI: 96
-
Levels of Detail: 20
-
Level ID: 0
[ Start Tile, End Tile ]
- Resolution: 156543.03392800014
- Scale: 5.91657527591555E8
-
Level ID: 1
[ Start Tile, End Tile ]
- Resolution: 78271.51696399994
- Scale: 2.95828763795777E8
-
Level ID: 2
[ Start Tile, End Tile ]
- Resolution: 39135.75848200009
- Scale: 1.47914381897889E8
-
Level ID: 3
[ Start Tile, End Tile ]
- Resolution: 19567.87924099992
- Scale: 7.3957190948944E7
-
Level ID: 4
[ Start Tile, End Tile ]
- Resolution: 9783.93962049996
- Scale: 3.6978595474472E7
-
Level ID: 5
[ Start Tile, End Tile ]
- Resolution: 4891.96981024998
- Scale: 1.8489297737236E7
- Format: MIXED
- Compression Quality: 75.0
- Origin:
X: -2.0037508342787E7
Y: 2.0037508342787E7
- Spatial Reference:
102100
(3857)
Initial Extent:
XMin: -9639096.43169321
YMin: 4824084.983902156
XMax: -9537475.821481505
YMax: 4867222.207620874
Spatial Reference:
102100
(3857)
Full Extent:
XMin: -9635868.176694816
YMin: 4800874.867069431
XMax: -9540704.076479899
YMax: 4867222.207620874
Spatial Reference:
102100
(3857)
Units: esriMeters
Supported Image Format Types: PNG32,PNG24,PNG,JPG,DIB,TIFF,EMF,PS,PDF,GIF,SVG,SVGZ,BMP
Document Info:
Title: IndyBase_Streets
Author: ncamire
Comments: City of Indianapolis & Marion County, IN Base Map. Compatible w/ ESRI's 'Streets' basemap. Used in the MapIndy (https://maps.indy.gov/MapIndy/) & Indy Zoning Browser (https://maps.indy.gov/Zoning/) web applications.
Subject: City of Indianapolis & Marion County, IN Base Map. Compatible w/ ESRI's 'Streets' basemap.
Category:
Keywords: Indy,Indianapolis,Marion County,IN,Indiana
AntialiasingMode: None
TextAntialiasingMode: Force
Supports Dynamic Layers: true
MaxRecordCount: 1000
MaxImageHeight: 4096
MaxImageWidth: 4096
Supported Query Formats: JSON, AMF, geoJSON
Min Scale: 5.91657527591555E8
Max Scale: 1128.497176
Supports Datum Transformation: true
Child Resources:
Info
Dynamic Layer
Supported Operations:
Export Map
Identify
Find
Return Updates
Generate KML